Workbook
Name rejestr_RPT: Baza!$C$1:$W$3792
Name rejestr_RPT_1: Baza!$A$1:$W$3792
Name RPT_07.04.2025_NIP: Baza!$C$1:$W$4751

Sheet BSA
A1: L.p. | B1: NIP wezwanego Przedsiębiorcy (NIP podmiotu przekazującego dane w ramach wezwania) | C1: Nazwa wezwanego Przedsiębiorcy (Nazwa podmiotu przekazującego dane w ramach wezwania) | D1: NIP Przedsiębiorcy Korzystającego (OK) | E1: Nazwa Przedsiębiorcy Korzystającego (OK) | F1: Nazwa Podmiotu na rzecz którego nastąpiła sprzedaż (jeżeli po wpisaniu prawidłowego numeru NIP w kolumnie D nie pojawi się nazwa podmiotu w kolumnie E na rzecz którego realizowana był sprzedaż, należy w kolumnie F wpisać nazwę tego podmiotu (np. nazwę spółki cywilnej) | G1: Liczba świadczonych usług hurtowych BSA (Bitstream Access) - dostęp do strumienia bitów w oparciu o infrastrukturę własną finansowaną ze środków publicznych niezależnie od stosowanej technologii (stan na 31.12.2025 r.) niezależnie od stosowanej technologii | H1: Liczba świadczonych usług hurtowych BSA (Bitstream Access) - dostęp do strumienia bitów w oparciu o infrastrukturę obcą finansowaną ze środków publicznych niezależnie od stosowanej technologii (stan na 31.12.2025 r.) niezależnie od stosowanej technologii | I1: Liczba świadczonych usług hurtowych BSA (Bitstream Access) - dostęp do strumienia bitów w oparciu o pozostałą infrastrukturę własną (niedofinansowaną) niezależnie od stosowanej technologii (stan na 31.12.2025 r.) niezależnie od stosowanej technologii | J1: Liczba świadczonych usług hurtowych BSA (Bitstream Access) - dostęp do strumienia bitów w oparciu o pozostałą infrastrukturę obcą (niedofinansowaną) niezależnie od stosowanej technologii (stan na 31.12.2025 r.) niezależnie od stosowanej technologii | K1: Rodzaj świadczonych usług przez Operatora Korzystającego na Państwa infrastrukturze (usługi hurtowe,usługi detaliczne) (stan na 31.12.2025 r.) (jeżeli informacja jest znana)
A2: 1 | C2: =IF(B2="", "", IF(COUNTIF(Baza!A:A, B2)=0, "Nieprawidłowy NIP", VLOOKUP(B2, Baza!A:B, 2, FALSE))) | E2: =IF(D2="", "", IF(COUNTIF(Baza!A:A, D2)=0, "Nieprawidłowy NIP", VLOOKUP(D2, Baza!A:B, 2, FALSE)))
A3: 2 | C3: =IF(B3="", "", IF(COUNTIF(Baza!A:A, B3)=0, "Nieprawidłowy NIP", VLOOKUP(B3, Baza!A:B, 2, FALSE))) | E3: =IF(D3="", "", IF(COUNTIF(Baza!A:A, D3)=0, "Nieprawidłowy NIP", VLOOKUP(D3, Baza!A:B, 2, FALSE)))
A4: 3 | C4: =IF(B4="", "", IF(COUNTIF(Baza!A:A, B4)=0, "Nieprawidłowy NIP", VLOOKUP(B4, Baza!A:B, 2, FALSE))) | E4: =IF(D4="", "", IF(COUNTIF(Baza!A:A, D4)=0, "Nieprawidłowy NIP", VLOOKUP(D4, Baza!A:B, 2, FALSE)))
A5: 4 | C5: =IF(B5="", "", IF(COUNTIF(Baza!A:A, B5)=0, "Nieprawidłowy NIP", VLOOKUP(B5, Baza!A:B, 2, FALSE))) | E5: =IF(D5="", "", IF(COUNTIF(Baza!A:A, D5)=0, "Nieprawidłowy NIP", VLOOKUP(D5, Baza!A:B, 2, FALSE)))
A6: 5 | C6: =IF(B6="", "", IF(COUNTIF(Baza!A:A, B6)=0, "Nieprawidłowy NIP", VLOOKUP(B6, Baza!A:B, 2, FALSE))) | E6: =IF(D6="", "", IF(COUNTIF(Baza!A:A, D6)=0, "Nieprawidłowy NIP", VLOOKUP(D6, Baza!A:B, 2, FALSE)))
A7: 6 | C7: =IF(B7="", "", IF(COUNTIF(Baza!A:A, B7)=0, "Nieprawidłowy NIP", VLOOKUP(B7, Baza!A:B, 2, FALSE))) | E7: =IF(D7="", "", IF(COUNTIF(Baza!A:A, D7)=0, "Nieprawidłowy NIP", VLOOKUP(D7, Baza!A:B, 2, FALSE)))
A8: 7 | C8: =IF(B8="", "", IF(COUNTIF(Baza!A:A, B8)=0, "Nieprawidłowy NIP", VLOOKUP(B8, Baza!A:B, 2, FALSE))) | E8: =IF(D8="", "", IF(COUNTIF(Baza!A:A, D8)=0, "Nieprawidłowy NIP", VLOOKUP(D8, Baza!A:B, 2, FALSE)))
A9: 8 | C9: =IF(B9="", "", IF(COUNTIF(Baza!A:A, B9)=0, "Nieprawidłowy NIP", VLOOKUP(B9, Baza!A:B, 2, FALSE))) | E9: =IF(D9="", "", IF(COUNTIF(Baza!A:A, D9)=0, "Nieprawidłowy NIP", VLOOKUP(D9, Baza!A:B, 2, FALSE)))
A10: 9 | C10: =IF(B10="", "", IF(COUNTIF(Baza!A:A, B10)=0, "Nieprawidłowy NIP", VLOOKUP(B10, Baza!A:B, 2, FALSE))) | E10: =IF(D10="", "", IF(COUNTIF(Baza!A:A, D10)=0, "Nieprawidłowy NIP", VLOOKUP(D10, Baza!A:B, 2, FALSE)))
A11: 10 | C11: =IF(B11="", "", IF(COUNTIF(Baza!A:A, B11)=0, "Nieprawidłowy NIP", VLOOKUP(B11, Baza!A:B, 2, FALSE))) | E11: =IF(D11="", "", IF(COUNTIF(Baza!A:A, D11)=0, "Nieprawidłowy NIP", VLOOKUP(D11, Baza!A:B, 2, FALSE)))
A12: 11 | C12: =IF(B12="", "", IF(COUNTIF(Baza!A:A, B12)=0, "Nieprawidłowy NIP", VLOOKUP(B12, Baza!A:B, 2, FALSE))) | E12: =IF(D12="", "", IF(COUNTIF(Baza!A:A, D12)=0, "Nieprawidłowy NIP", VLOOKUP(D12, Baza!A:B, 2, FALSE)))
A13: 12 | C13: =IF(B13="", "", IF(COUNTIF(Baza!A:A, B13)=0, "Nieprawidłowy NIP", VLOOKUP(B13, Baza!A:B, 2, FALSE))) | E13: =IF(D13="", "", IF(COUNTIF(Baza!A:A, D13)=0, "Nieprawidłowy NIP", VLOOKUP(D13, Baza!A:B, 2, FALSE)))
... A278: 277 | C278: =IF(B278="", "", IF(COUNTIF(Baza!A:A, B278)=0, "Nieprawidłowy NIP", VLOOKUP(B278, Baza!A:B, 2, FALSE))) | E278: =IF(D278="", "", IF(COUNTIF(Baza!A:A, D278)=0, "Nieprawidłowy NIP", VLOOKUP(D278, Baza!A:B, 2, FALSE)))

Sheet LLU
A1: L.p. | B1: NIP wezwanego Przedsiębiorcy (NIP podmiotu przekazującego dane w ramach wezwania) | C1: Nazwa wezwanego Przedsiębiorcy (Nazwa podmiotu przekazującego dane w ramach wezwania) | D1: NIP Przedsiębiorcy Korzystającego (OK) | E1: Nazwa Przedsiębiorcy Korzystającego (OK) | F1: Nazwa Podmiotu na rzecz którego nastąpiła sprzedaż (jeżeli po wpisaniu prawidłowego numeru NIP w kolumnie D nie pojawi się nazwa podmiotu w kolumnie E na rzecz którego realizowana był sprzedaż, należy w kolumnie F wpisać nazwę tego podmiotu (np. nazwę spółki cywilnej) | G1: Liczba świadczonych usług hurtowych LLU (Local Loop Unbundling - dostęp do uwolnionej pętli abonenckiej) w oparciu o infrastrukturę własną finansowaną ze środków publicznych niezależnie od stosowanej technologii (stan na 31.12.2025 r.) niezależnie od stosowanej technologii | H1: Liczba świadczonych usług hurtowych LLU (Local Loop Unbundling - dostęp do uwolnionej pętli abonenckiej) w oparciu o infrastrukturę obcą finansowaną ze środków publicznych niezależnie od stosowanej technologii (stan na 31.12.2025 r.) niezależnie od stosowanej technologii | I1: Liczba świadczonych usług hurtowych LLU (Local Loop Unbundling) dostęp do uwolnionej pętli abonenckiej w oparciu o pozostałą infrastrukturę własną (niedofinansowaną) niezależnie od stosowanej technologii (stan na 31.12.2025 r.) niezależnie od stosowanej technologii | J1: Liczba świadczonych usług hurtowych LLU (Local Loop Unbundling) dostęp do uwolnionej pętli abonenckiej w oparciu o pozostałą infrastrukturę obcą (niedofinansowaną) niezależnie od stosowanej technologii (stan na 31.12.2025 r.) niezależnie od stosowanej technologii
A2: 1 | C2: =IF(B2="", "", IF(COUNTIF(Baza!A:A, B2)=0, "Nieprawidłowy NIP", VLOOKUP(B2, Baza!A:B, 2, FALSE))) | E2: =IF(D2="", "", IF(COUNTIF(Baza!A:A, D2)=0, "Nieprawidłowy NIP", VLOOKUP(D2, Baza!A:B, 2, FALSE)))
A3: 2 | C3: =IF(B3="", "", IF(COUNTIF(Baza!A:A, B3)=0, "Nieprawidłowy NIP", VLOOKUP(B3, Baza!A:B, 2, FALSE))) | E3: =IF(D3="", "", IF(COUNTIF(Baza!A:A, D3)=0, "Nieprawidłowy NIP", VLOOKUP(D3, Baza!A:B, 2, FALSE)))
A4: 3 | C4: =IF(B4="", "", IF(COUNTIF(Baza!A:A, B4)=0, "Nieprawidłowy NIP", VLOOKUP(B4, Baza!A:B, 2, FALSE))) | E4: =IF(D4="", "", IF(COUNTIF(Baza!A:A, D4)=0, "Nieprawidłowy NIP", VLOOKUP(D4, Baza!A:B, 2, FALSE)))
A5: 4 | C5: =IF(B5="", "", IF(COUNTIF(Baza!A:A, B5)=0, "Nieprawidłowy NIP", VLOOKUP(B5, Baza!A:B, 2, FALSE))) | E5: =IF(D5="", "", IF(COUNTIF(Baza!A:A, D5)=0, "Nieprawidłowy NIP", VLOOKUP(D5, Baza!A:B, 2, FALSE)))
A6: 5 | C6: =IF(B6="", "", IF(COUNTIF(Baza!A:A, B6)=0, "Nieprawidłowy NIP", VLOOKUP(B6, Baza!A:B, 2, FALSE))) | E6: =IF(D6="", "", IF(COUNTIF(Baza!A:A, D6)=0, "Nieprawidłowy NIP", VLOOKUP(D6, Baza!A:B, 2, FALSE)))
A7: 6 | C7: =IF(B7="", "", IF(COUNTIF(Baza!A:A, B7)=0, "Nieprawidłowy NIP", VLOOKUP(B7, Baza!A:B, 2, FALSE))) | E7: =IF(D7="", "", IF(COUNTIF(Baza!A:A, D7)=0, "Nieprawidłowy NIP", VLOOKUP(D7, Baza!A:B, 2, FALSE)))
A8: 7 | C8: =IF(B8="", "", IF(COUNTIF(Baza!A:A, B8)=0, "Nieprawidłowy NIP", VLOOKUP(B8, Baza!A:B, 2, FALSE))) | E8: =IF(D8="", "", IF(COUNTIF(Baza!A:A, D8)=0, "Nieprawidłowy NIP", VLOOKUP(D8, Baza!A:B, 2, FALSE)))
A9: 8 | C9: =IF(B9="", "", IF(COUNTIF(Baza!A:A, B9)=0, "Nieprawidłowy NIP", VLOOKUP(B9, Baza!A:B, 2, FALSE))) | E9: =IF(D9="", "", IF(COUNTIF(Baza!A:A, D9)=0, "Nieprawidłowy NIP", VLOOKUP(D9, Baza!A:B, 2, FALSE)))
A10: 9 | C10: =IF(B10="", "", IF(COUNTIF(Baza!A:A, B10)=0, "Nieprawidłowy NIP", VLOOKUP(B10, Baza!A:B, 2, FALSE))) | E10: =IF(D10="", "", IF(COUNTIF(Baza!A:A, D10)=0, "Nieprawidłowy NIP", VLOOKUP(D10, Baza!A:B, 2, FALSE)))
A11: 10 | C11: =IF(B11="", "", IF(COUNTIF(Baza!A:A, B11)=0, "Nieprawidłowy NIP", VLOOKUP(B11, Baza!A:B, 2, FALSE))) | E11: =IF(D11="", "", IF(COUNTIF(Baza!A:A, D11)=0, "Nieprawidłowy NIP", VLOOKUP(D11, Baza!A:B, 2, FALSE)))
A12: 11 | C12: =IF(B12="", "", IF(COUNTIF(Baza!A:A, B12)=0, "Nieprawidłowy NIP", VLOOKUP(B12, Baza!A:B, 2, FALSE))) | E12: =IF(D12="", "", IF(COUNTIF(Baza!A:A, D12)=0, "Nieprawidłowy NIP", VLOOKUP(D12, Baza!A:B, 2, FALSE)))
A13: 12 | C13: =IF(B13="", "", IF(COUNTIF(Baza!A:A, B13)=0, "Nieprawidłowy NIP", VLOOKUP(B13, Baza!A:B, 2, FALSE))) | E13: =IF(D13="", "", IF(COUNTIF(Baza!A:A, D13)=0, "Nieprawidłowy NIP", VLOOKUP(D13, Baza!A:B, 2, FALSE)))
... A250: 249 | C250: =IF(B250="", "", IF(COUNTIF(Baza!A:A, B250)=0, "Nieprawidłowy NIP", VLOOKUP(B250, Baza!A:B, 2, FALSE))) | E250: =IF(D250="", "", IF(COUNTIF(Baza!A:A, D250)=0, "Nieprawidłowy NIP", VLOOKUP(D250, Baza!A:B, 2, FALSE)))

Sheet Baza
A1: nip | B1: nazwa_pt | C1: nr_pt | D1: data_wpisu_do_rejestru | E1: data_wykreslenia_z_rejestru | F1: forma_prawna | G1: kraj | H1: wojewodztwo | I1: powiat | J1: gmina | K1: kod_pocztowy | L1: miejscowosc | M1: ulica | N1: nr_domu | O1: nr_lokalu | P1: dzialalnosci_uslugi | Q1: dzialalnosci_sieci | R1: obszar_dzialalnosci | S1: adres_strony_www | T1: planowana_data_rozpoczecia_dzialalnosci | U1: planowana_data_zakonczenia_dzialalnosci | V1: data_wplywu_wniosku_o_wpis | W1: dzialalnosc_prawo_telekomunikacyjne
A2: 5260250995 | B2: ORANGE POLSKA SPÓŁKA AKCYJNA | C2: 1 | D2: 38261 | F2: S.A. | G2: RZECZPOSPOLITA POLSKA | H2: MAZOWIECKIE | I2: WARSZAWA | J2: WARSZAWA | K2: 02-326 | L2: WARSZAWA | M2: AL. JEROZOLIMSKIE | N2: 160 | P2: Stacjonarne usługi dostępu do Internetu - detal - hurt, Mobilne usługi dostępu do Internetu - detal - hurt, Stacjonarne usługi łączności interpersonalnej wykorzystujące numery (w tym usługi nomadyczne) - detal - hurt, Mobilne usługi łączności interpersonalnej wykorzystujące numery - detal - hurt, Transmisja danych - detal - hurt, Dzierżawa łączy telekomunikacyjnych - detal - hurt, Transmisja programów telewizyjnych - detal, Usługi roamingowe (MCA i MCV) - detal, Transport ruchu telefonicznego między operatorami - hurt, Usługi transmisji na potrzeby M2M - detal - hurt, Inne - hurt | Q2: Kabel parowy-miedziany (DSL), Kabel koncentryczny (TVK), Światłowód, Sieć elektroenergetyczna, Sieć bezprzewodowa - licencjonowane widmo, Sieć bezprzewodowa - nielicencjonowane widmo, Standardowa sieć komórkowa (np. 2G, 3G, 4G, 5G), Inne rozwiązania mobilne (np. sieci alarmowe TETRAPOL), Kable podmorskie | R2: RZECZPOSPOLITA POLSKA | S2: WWW.ORANGE.PL | V2: Wpis z urzędu
A3: 5271037727 | B3: POLKOMTEL SPÓŁKA Z OGRANICZONĄ ODPOWIEDZIALNOŚCIĄ | C3: 3 | D3: 38261 | F3: SP. Z O.O. | G3: RZECZPOSPOLITA POLSKA | H3: MAZOWIECKIE | I3: WARSZAWA | J3: WARSZAWA | K3: 02-673 | L3: WARSZAWA | M3: KONSTRUKTORSKA | N3: 4 | P3: Stacjonarne usługi dostępu do Internetu - detal - hurt, Mobilne usługi dostępu do Internetu - detal - hurt, Stacjonarne usługi łączności interpersonalnej wykorzystujące numery (w tym usługi nomadyczne) - detal - hurt, Mobilne usługi łączności interpersonalnej wykorzystujące numery - detal - hurt, Dzierżawa łączy telekomunikacyjnych - detal - hurt, Usługi roamingowe (MCA i MCV) - detal - hurt, Transport ruchu telefonicznego między operatorami - hurt, Usługi transmisji na potrzeby M2M - detal - hurt, Inne - detal - hurt | Q3: Kabel parowy-miedziany (DSL), Kabel koncentryczny (TVK), Światłowód, Sieć bezprzewodowa - licencjonowane widmo, Standardowa sieć komórkowa (np. 2G, 3G, 4G, 5G), Inne rozwiązania mobilne (np. sieci alarmowe TETRAPOL) | R3: RZECZPOSPOLITA POLSKA | S3: WWW.PLUS.PL | V3: Wpis z urzędu
A4: 5261040567 | B4: T-MOBILE POLSKA SPÓŁKA AKCYJNA | C4: 4 | D4: 38261 | F4: S.A. | G4: RZECZPOSPOLITA POLSKA | H4: MAZOWIECKIE | I4: WARSZAWA | J4: WARSZAWA | K4: 02-674 | L4: WARSZAWA | M4: MARYNARSKA | N4: 12 | P4: Stacjonarne usługi dostępu do Internetu - detal - hurt - sprzedaż, Mobilne usługi dostępu do Internetu - detal - hurt - sprzedaż, Stacjonarne usługi łączności interpersonalnej wykorzystujące numery (w tym usługi nomadyczne) - detal - hurt - sprzedaż, Mobilne usługi łączności interpersonalnej wykorzystujące numery - detal - hurt - sprzedaż, Transmisja danych - detal - hurt - sprzedaż, Dzierżawa łączy telekomunikacyjnych - detal - hurt - sprzedaż, Transmisja programów telewizyjnych - detal - sprzedaż, Usługi roamingowe (MCA i MCV) - detal - hurt - sprzedaż, Transport ruchu telefonicznego między operatorami - hurt, Usługi transmisji na potrzeby M2M - detal - hurt - sprzedaż | Q4: Światłowód, Sieć bezprzewodowa - licencjonowane widmo, Sieć bezprzewodowa - nielicencjonowane widmo, Standardowa sieć komórkowa (np. 2G, 3G, 4G, 5G), Inne rozwiązania mobilne (np. sieci alarmowe TETRAPOL) | R4: RZECZPOSPOLITA POLSKA | S4: WWW.T-MOBILE.PL | V4: Wpis z urzędu
A5: 5260205575 | B5: "NETIA" SPÓŁKA AKCYJNA | C5: 6 | D5: 38246 | F5: S.A. | G5: RZECZPOSPOLITA POLSKA | H5: MAZOWIECKIE | I5: WARSZAWA | J5: WARSZAWA | K5: 02-822 | L5: WARSZAWA | M5: POLECZKI | N5: 13 | P5: Stacjonarne usługi dostępu do Internetu - detal - hurt, Mobilne usługi dostępu do Internetu - detal, Stacjonarne usługi łączności interpersonalnej wykorzystujące numery (w tym usługi nomadyczne) - detal, Mobilne usługi łączności interpersonalnej wykorzystujące numery - detal, Transmisja danych - detal - hurt, Dzierżawa łączy telekomunikacyjnych - detal - hurt, Transmisja programów telewizyjnych - sprzedaż, Transmisja programów radiowych - detal, Usługi roamingowe (MCA i MCV) - detal, Transport ruchu telefonicznego między operatorami - detal - hurt | Q5: Kabel parowy-miedziany (DSL), Kabel koncentryczny (TVK), Światłowód, Sieć bezprzewodowa - licencjonowane widmo, Sieć bezprzewodowa - nielicencjonowane widmo, Standardowa sieć komórkowa (np. 2G, 3G, 4G, 5G) | R5: RZECZPOSPOLITA POLSKA | S5: WWW.NETIA.PL/PL | V5: Wpis z urzędu
A6: 5262548753 | B6: "TK TELEKOM" SPÓŁKA Z OGRANICZONĄ ODPOWIEDZIALNOŚCIĄ | C6: 7 | D6: 38254 | F6: SP. Z O.O. | G6: RZECZPOSPOLITA POLSKA | H6: MAZOWIECKIE | I6: WARSZAWA | J6: WARSZAWA | K6: 03-743 | L6: WARSZAWA | M6: KIJOWSKA | N6: 10/12A | P6: Stacjonarne usługi dostępu do Internetu - detal, Stacjonarne usługi łączności interpersonalnej wykorzystujące numery (w tym usługi nomadyczne) - detal, Mobilne usługi łączności interpersonalnej wykorzystujące numery - detal, Transmisja danych - detal - hurt, Dzierżawa łączy telekomunikacyjnych - detal - hurt, Transport ruchu telefonicznego między operatorami - detal - hurt | Q6: Kabel parowy-miedziany (DSL), Światłowód, Sieć bezprzewodowa - licencjonowane widmo, Sieć bezprzewodowa - nielicencjonowane widmo | R6: RZECZPOSPOLITA POLSKA | S6: WWW.NETIA.PL/PL/TRANSPORT/O-TK-TELEKOM | V6: Wpis z urzędu
A7: 5270104568 | B7: EXATEL SPÓŁKA AKCYJNA | C7: 18 | D7: 38261 | F7: S.A. | G7: RZECZPOSPOLITA POLSKA | H7: MAZOWIECKIE | I7: WARSZAWA | J7: WARSZAWA | K7: 04-164 | L7: WARSZAWA | M7: PERKUNA | N7: 47 | P7: Stacjonarne usługi dostępu do Internetu - detal - sprzedaż, Stacjonarne usługi łączności interpersonalnej wykorzystujące numery (w tym usługi nomadyczne) - detal - sprzedaż, Mobilne usługi łączności interpersonalnej wykorzystujące numery - detal - hurt - sprzedaż, Transmisja danych - detal - sprzedaż, Dzierżawa łączy telekomunikacyjnych - detal - sprzedaż, Transport ruchu telefonicznego między operatorami - hurt, Inne | Q7: Światłowód, Sieć bezprzewodowa - licencjonowane widmo, Standardowa sieć komórkowa (np. 2G, 3G, 4G, 5G), Sieć satelitarna | R7: RZECZPOSPOLITA POLSKA | S7: WWW.EXATEL.PL | V7: Wpis z urzędu
A8: 7690005408 | B8: AGENCJA ROZWOJU REGIONALNEGO "ARREKS" SPÓŁKA Z OGRANICZONĄ ODPOWIEDZIALNOŚCIĄ | C8: 21 | D8: 38261 | F8: SP. Z O.O. | G8: RZECZPOSPOLITA POLSKA | H8: ŁÓDZKIE | I8: BEŁCHATOWSKI | J8: KLESZCZÓW | K8: 97-410 | L8: KLESZCZÓW | M8: GŁÓWNA | N8: 122 | P8: Stacjonarne usługi dostępu do Internetu - detal, Stacjonarne usługi łączności interpersonalnej wykorzystujące numery (w tym usługi nomadyczne) - detal, Transmisja danych - detal, Transmisja programów telewizyjnych - sprzedaż | Q8: Światłowód, Sieć bezprzewodowa - nielicencjonowane widmo | R8: RZECZPOSPOLITA POLSKA | S8: WWW.ARREKS.COM.PL | V8: Wpis z urzędu
A9: 6340134205 | B9: COIG SPÓŁKA AKCYJNA | C9: 24 | D9: 38261 | F9: S.A. | G9: RZECZPOSPOLITA POLSKA | H9: ŚLĄSKIE | I9: KATOWICE | J9: KATOWICE | K9: 40-065 | L9: KATOWICE | M9: MIKOŁOWSKA | N9: 100 | P9: Stacjonarne usługi dostępu do Internetu - hurt - sprzedaż | Q9: Kabel parowy-miedziany (DSL), Światłowód | R9: RZECZPOSPOLITA POLSKA | S9: WWW.COIG.PL | V9: Wpis z urzędu
A10: 8120005470 | B10: ENEA WYTWARZANIE SPÓŁKA Z OGRANICZONĄ ODPOWIEDZIALNOŚCIĄ | C10: 26 | D10: 38261 | F10: SP. Z O.O. | G10: RZECZPOSPOLITA POLSKA | H10: MAZOWIECKIE | I10: KOZIENICKI | J10: KOZIENICE | K10: 26-900 | L10: ŚWIERŻE GÓRNE | M10: ALEJA JÓZEFA ZIELIŃSKIEGO | N10: 1 | P10: Stacjonarne usługi dostępu do Internetu - detal, Dzierżawa łączy telekomunikacyjnych - detal | Q10: Kabel parowy-miedziany (DSL) | R10: RZECZPOSPOLITA POLSKA | S10: WWW.ENEA.PL/PL/ENEA-WYTWARZANIE | V10: Wpis z urzędu
A11: 5261658238 | B11: SFERIA SPÓŁKA AKCYJNA | C11: 28 | D11: 38261 | F11: S.A. | G11: RZECZPOSPOLITA POLSKA | H11: MAZOWIECKIE | I11: WARSZAWA | J11: WARSZAWA | K11: 04-028 | L11: WARSZAWA | M11: ALEJA STANÓW ZJEDNOCZONYCH | N11: 61A | P11: Mobilne usługi dostępu do Internetu - detal, Mobilne usługi łączności interpersonalnej wykorzystujące numery - detal, Transmisja danych - detal | R11: RZECZPOSPOLITA POLSKA | S11: WWW.SFERIA.PL | V11: Wpis z urzędu
A12: 8321003377 | B12: TELEKOMUNIKACJA ZWIĄZKU GMIN ZIEMI WIELUŃSKIEJ SPÓŁKA AKCYJNA W UPADŁOŚCI | C12: 30 | D12: 38261 | E12: 46038 | F12: S.A. | G12: RZECZPOSPOLITA POLSKA | H12: ŁÓDZKIE | I12: WIELUŃSKI | J12: WIELUŃ | K12: 98-300 | L12: WIELUŃ | M12: PLAC LEGIONÓW | N12: 1 | P12: Stacjonarne usługi dostępu do Internetu - detal | R12: RZECZPOSPOLITA POLSKA | S12: WWW.TZG.PL | U12: 45957 | V12: Wpis z urzędu
A13: 8130268515 | B13: SPÓŁDZIELNIA TELEKOMUNIKACYJNA OST | C13: 36 | D13: 38261 | F13: SPÓŁDZIELNIE | G13: RZECZPOSPOLITA POLSKA | H13: PODKARPACKIE | I13: RZESZOWSKI | J13: TYCZYN | K13: 36-020 | L13: TYCZYN | M13: KOŚCIUSZKI | N13: 8 | P13: Stacjonarne usługi dostępu do Internetu - detal, Stacjonarne usługi łączności interpersonalnej wykorzystujące numery (w tym usługi nomadyczne) - detal, Transport ruchu telefonicznego między operatorami - detal | Q13: Kabel parowy-miedziany (DSL), Światłowód | R13: RZECZPOSPOLITA POLSKA | S13: WWW.OSTNET.PL | V13: Wpis z urzędu
A14: 6851656979 | B14: PRZEDSIĘBIORSTWO TELEKOMUNIKACYJNE "TELGAM" SPÓŁKA AKCYJNA | C14: 37 | D14: 38261 | F14: S.A. | G14: RZECZPOSPOLITA POLSKA | H14: PODKARPACKIE | I14: JASIELSKI | J14: JASŁO | K14: 38-200 | L14: JASŁO | M14: MICKIEWICZA ADAMA | N14: 148A | P14: Stacjonarne usługi dostępu do Internetu - detal, Mobilne usługi dostępu do Internetu - detal | Q14: Światłowód | R14: RZECZPOSPOLITA POLSKA | S14: WWW.TELGAM.PL | V14: Wpis z urzędu
A15: 5262419731 | B15: ARELION POLAND SPÓŁKA Z OGRANICZONĄ ODPOWIEDZIALNOŚCIĄ | C15: 43 | D15: 38261 | F15: SP. Z O.O. | G15: RZECZPOSPOLITA POLSKA | H15: MAZOWIECKIE | I15: WARSZAWA | J15: WARSZAWA | K15: 00-695 | L15: WARSZAWA | M15: NOWOGRODZKA | N15: 47A | P15: Transmisja danych - hurt, Dzierżawa łączy telekomunikacyjnych - hurt, Transport ruchu telefonicznego między operatorami - hurt | Q15: Światłowód | R15: RZECZPOSPOLITA POLSKA | S15: WWW.ARELION.COM | V15: Wpis z urzędu
A16: 5222499304 | B16: NIEZALEŻNY OPERATOR MIĘDZYSTREFOWY SPÓŁKA Z OGRANICZONĄ ODPOWIEDZIALNOŚCIĄ | C16: 44 | D16: 38261 | F16: SP. Z O.O. | G16: RZECZPOSPOLITA POLSKA | H16: MAZOWIECKIE | I16: WARSZAWA | J16: WARSZAWA | K16: 02-284 | L16: WARSZAWA | M16: AL. KRAKOWSKA | N16: 22A | P16: Stacjonarne usługi dostępu do Internetu - hurt, Mobilne usługi dostępu do Internetu - hurt, Stacjonarne usługi łączności interpersonalnej wykorzystujące numery (w tym usługi nomadyczne) - hurt, Mobilne usługi łączności interpersonalnej wykorzystujące numery - hurt, Transmisja danych - hurt, Dzierżawa łączy telekomunikacyjnych - hurt, Usługi roamingowe (MCA i MCV) - hurt, Transport ruchu telefonicznego między operatorami - hurt, Usługi transmisji na potrzeby M2M - hurt | R16: RZECZPOSPOLITA POLSKA | S16: Nie posiada | V16: Wpis z urzędu
A17: 7742271577 | B17: PETROTEL SPÓŁKA Z OGRANICZONĄ ODPOWIEDZIALNOŚCIĄ | C17: 45 | D17: 38261 | F17: SP. Z O.O. | G17: RZECZPOSPOLITA POLSKA | H17: MAZOWIECKIE | I17: PŁOCK | J17: PŁOCK | K17: 09-400 | L17: PŁOCK | M17: KOSTROGAJ | N17: 3 | P17: Stacjonarne usługi dostępu do Internetu - detal - hurt, Stacjonarne usługi łączności interpersonalnej wykorzystujące numery (w tym usługi nomadyczne) - detal, Transmisja danych - detal - hurt, Dzierżawa łączy telekomunikacyjnych - detal - hurt, Transmisja programów telewizyjnych - detal | Q17: Kabel parowy-miedziany (DSL), Światłowód, Sieć bezprzewodowa - licencjonowane widmo, Sieć bezprzewodowa - nielicencjonowane widmo | R17: RZECZPOSPOLITA POLSKA | S17: WWW.PETROTEL.PL | V17: Wpis z urzędu
A18: 5260036664 | B18: EM CAST SPÓŁKA Z OGRANICZONĄ ODPOWIEDZIALNOŚCIĄ | C18: 46 | D18: 38261 | E18: 45959 | F18: SP. Z O.O. | G18: RZECZPOSPOLITA POLSKA | H18: MAZOWIECKIE | I18: WARSZAWA | J18: WARSZAWA | K18: 02-796 | L18: WARSZAWA | M18: MIGDAŁOWA | N18: 4 | P18: Transmisja programów radiowych - hurt | R18: RZECZPOSPOLITA POLSKA | S18: Nie posiada | V18: Wpis z urzędu
A19: 5272171391 | B19: T-MOBILE POLSKA BUSINESS SOLUTIONS SPÓŁKA Z OGRANICZONĄ ODPOWIEDZIALNOŚCIĄ | C19: 50 | D19: 38261 | F19: SP. Z O.O. | G19: RZECZPOSPOLITA POLSKA | H19: MAZOWIECKIE | I19: WARSZAWA | J19: WARSZAWA | K19: 02-674 | L19: WARSZAWA | M19: MARYNARSKA | N19: 12 | P19: Transmisja danych - detal | R19: RZECZPOSPOLITA POLSKA | S19: WWW.BUSINESS.T-MOBILE.PL | V19: Wpis z urzędu
A20: 5252061127 | B20: GTS POLAND SPÓŁKA Z OGRANICZONĄ ODPOWIEDZIALNOŚCIĄ | C20: 52 | D20: 38261 | F20: SP. Z O.O. | G20: RZECZPOSPOLITA POLSKA | H20: MAZOWIECKIE | I20: WARSZAWA | J20: WARSZAWA | K20: 02-676 | L20: WARSZAWA | M20: POSTĘPU | N20: 15C | O20: 0.625 | P20: Stacjonarne usługi dostępu do Internetu - hurt, Transmisja danych - hurt, Dzierżawa łączy telekomunikacyjnych - hurt | R20: RZECZPOSPOLITA POLSKA | S20: WWW.GTS.PL | V20: Wpis z urzędu
A21: 7381022521 | B21: TELBESKID SPÓŁKA Z OGRANICZONĄ ODPOWIEDZIALNOŚCIĄ | C21: 57 | D21: 38261 | F21: SP. Z O.O. | G21: RZECZPOSPOLITA POLSKA | H21: MAŁOPOLSKIE | I21: NOWY SĄCZ | J21: NOWY SĄCZ | K21: 33-300 | L21: NOWY SĄCZ | M21: NOWY ŚWIAT | N21: 2 | P21: Stacjonarne usługi dostępu do Internetu - detal - sprzedaż, Stacjonarne usługi łączności interpersonalnej wykorzystujące numery (w tym usługi nomadyczne) - detal, Transmisja danych - detal, Dzierżawa łączy telekomunikacyjnych - detal | Q21: Kabel parowy-miedziany (DSL), Światłowód, Sieć bezprzewodowa - licencjonowane widmo, Sieć bezprzewodowa - nielicencjonowane widmo | R21: RZECZPOSPOLITA POLSKA | S21: WWW.TELBESKID.COM.PL | V21: Wpis z urzędu
A22: 5210417157 | B22: NAUKOWA I AKADEMICKA SIEĆ KOMPUTEROWA - PAŃSTWOWY INSTYTUT BADAWCZY | C22: 59 | D22: 38261 | F22: INSTYTUTY BADAWCZE I INSTYTUTY DZIAŁAJĄCE W RAMACH SIECI BADAWCZEJ ŁUKASIEWICZ | G22: RZECZPOSPOLITA POLSKA | H22: MAZOWIECKIE | I22: WARSZAWA | J22: WARSZAWA | K22: 01-045 | L22: WARSZAWA | M22: KOLSKA | N22: 12 | O22: - | P22: Stacjonarne usługi dostępu do Internetu - detal, Stacjonarne usługi łączności interpersonalnej wykorzystujące numery (w tym usługi nomadyczne) - detal, Transmisja danych - detal - hurt, Dzierżawa łączy telekomunikacyjnych - detal - hurt, Transport ruchu telefonicznego między operatorami - hurt | Q22: Światłowód, Sieć bezprzewodowa - licencjonowane widmo | R22: RZECZPOSPOLITA POLSKA | S22: WWW.NASK.PL | V22: Wpis z urzędu
A23: 8130014128 | B23: SPÓŁDZIELNIA TELEKOMUNIKACYJNA "WIST" W ŁĄCE | C23: 61 | D23: 38261 | F23: SPÓŁDZIELNIE | G23: RZECZPOSPOLITA POLSKA | H23: PODKARPACKIE | I23: RZESZOWSKI | J23: TRZEBOWNISKO | K23: 36-004 | L23: ŁĄKA | N23: 175 | P23: Stacjonarne usługi dostępu do Internetu - detal, Stacjonarne usługi łączności interpersonalnej wykorzystujące numery (w tym usługi nomadyczne) - detal, Transmisja danych - detal, Dzierżawa łączy telekomunikacyjnych - detal, Inne - detal | Q23: Kabel parowy-miedziany (DSL), Światłowód | R23: RZECZPOSPOLITA POLSKA | S23: WWW.WIST.COM.PL | V23: Wpis z urzędu
A24: 6312283637 | B24: "GALENA" SPÓŁKA Z OGRANICZONĄ ODPOWIEDZIALNOŚCIĄ | C24: 66 | D24: 38261 | F24: SP. Z O.O. | G24: RZECZPOSPOLITA POLSKA | H24: MAZOWIECKIE | I24: WARSZAWA | J24: WARSZAWA | K24: 01-230 | L24: WARSZAWA | M24: SKIERNIEWICKA | N24: 34A | O24: U01 | P24: Stacjonarne usługi łączności interpersonalnej wykorzystujące numery (w tym usługi nomadyczne) - detal, Mobilne usługi łączności interpersonalnej wykorzystujące numery - detal, Transport ruchu telefonicznego między operatorami - hurt | R24: RZECZPOSPOLITA POLSKA | S24: WWW.TELEGROSIK.PL | V24: Wpis z urzędu
A25: 9462337218 | B25: "WORLD DISCOUNT TELECOMMUNICATION POLSKA" SPÓŁKA Z OGRANICZONĄ ODPOWIEDZIALNOŚCIĄ | C25: 68 | D25: 38261 | F25: SP. Z O.O. | G25: RZECZPOSPOLITA POLSKA | H25: LUBELSKIE | I25: LUBLIN | J25: LUBLIN | K25: 20-632 | L25: LUBLIN | M25: SAWY JANA | N25: 2 | P25: Stacjonarne usługi dostępu do Internetu - detal, Stacjonarne usługi łączności interpersonalnej wykorzystujące numery (w tym usługi nomadyczne) - detal | Q25: Kabel parowy-miedziany (DSL) | R25: RZECZPOSPOLITA POLSKA | S25: Nie posiada | V25: Wpis z urzędu
A26: 8230001125 | B26: "TELEFONY PODLASKIE" SPÓŁKA AKCYJNA | C26: 77 | D26: 38261 | F26: S.A. | G26: RZECZPOSPOLITA POLSKA | H26: MAZOWIECKIE | I26: SOKOŁOWSKI | J26: SOKOŁÓW PODLASKI | K26: 08-300 | L26: SOKOŁÓW PODLASKI | M26: WOLNOŚCI | N26: 44 | P26: Stacjonarne usługi dostępu do Internetu - detal, Mobilne usługi dostępu do Internetu - detal, Stacjonarne usługi łączności interpersonalnej wykorzystujące numery (w tym usługi nomadyczne) - detal, Mobilne usługi łączności interpersonalnej wykorzystujące numery - detal, Transmisja danych - detal, Dzierżawa łączy telekomunikacyjnych - detal, Transmisja programów telewizyjnych - detal | Q26: Kabel parowy-miedziany (DSL), Światłowód, Standardowa sieć komórkowa (np. 2G, 3G, 4G, 5G) | R26: RZECZPOSPOLITA POLSKA | S26: WWW.TELEFONYPODLASKIESA.PL | V26: Wpis z urzędu
A27: 7961810732 | B27: CYFROWY POLSAT SPÓŁKA AKCYJNA | C27: 85 | D27: 38261 | F27: S.A. | G27: RZECZPOSPOLITA POLSKA | H27: MAZOWIECKIE | I27: WARSZAWA | J27: WARSZAWA | K27: 03-878 | L27: WARSZAWA | M27: ŁUBINOWA | N27: 4A | O27: - | P27: Mobilne usługi dostępu do Internetu - detal, Transmisja danych - detal, Transmisja programów telewizyjnych - detal, Transmisja programów radiowych - detal, Inne - detal - sprzedaż | R27: RZECZPOSPOLITA POLSKA | S27: WWW.POLSATBOX.PL | V27: Wpis z urzędu
A28: 5210412987 | B28: "TELEWIZJA POLSKA" SPÓŁKA AKCYJNA W LIKWIDACJI | C28: 86 | D28: 38261 | F28: S.A. | G28: RZECZPOSPOLITA POLSKA | H28: MAZOWIECKIE | I28: WARSZAWA | J28: WARSZAWA | K28: 00-999 | L28: WARSZAWA | M28: WORONICZA JANA PAWŁA | N28: 17 | P28: Transmisja programów telewizyjnych - sprzedaż | Q28: Sieć satelitarna | R28: RZECZPOSPOLITA POLSKA | S28: WWW.TVP.PL | V28: Wpis z urzędu
A29: 9512120077 | B29: "P4 SPÓŁKA Z OGRANICZONĄ ODPOWIEDZIALNOŚCIĄ" | C29: 92 | D29: 38246 | F29: SP. Z O.O. | G29: RZECZPOSPOLITA POLSKA | H29: MAZOWIECKIE | I29: WARSZAWA | J29: WARSZAWA | K29: 02-677 | L29: WARSZAWA | M29: WYNALAZEK | N29: 1 | P29: Stacjonarne usługi dostępu do Internetu, Mobilne usługi dostępu do Internetu, Transmisja danych, Usługi transmisji na potrzeby M2M | Q29: Światłowód, Sieć bezprzewodowa - licencjonowane widmo, Standardowa sieć komórkowa (np. 2G, 3G, 4G, 5G), Inne | R29: RZECZPOSPOLITA POLSKA | S29: WWW.WWW.PLAY.PL | V29: 38239
A30: 5651280983 | B30: EFEKT SERWIS WOJCIECH SZLECHTA | C30: 95 | D30: 38248 | F30: OSOBY FIZYCZNE PROWADZĄCE DZIAŁALNOŚĆ GOSPODARCZĄ | G30: RZECZPOSPOLITA POLSKA | H30: LUBELSKIE | I30: WŁODAWSKI | J30: WŁODAWA | K30: 22-200 | L30: WŁODAWA | M30: REYMONTA | N30: 12 | O30: LOKAL 1 | P30: Stacjonarne usługi dostępu do Internetu - detal, Mobilne usługi dostępu do Internetu - sprzedaż, Transmisja danych - detal | Q30: Światłowód, Sieć bezprzewodowa - nielicencjonowane widmo | R30: RZECZPOSPOLITA POLSKA | S30: WWW.EFEKT.NET.PL | V30: 38240
A31: 6911992305 | B31: JAROSŁAW JANCZAK F.H.U.P. "TURBO" | C31: 98 | D31: 38250 | F31: OSOBY FIZYCZNE PROWADZĄCE DZIAŁALNOŚĆ GOSPODARCZĄ | G31: RZECZPOSPOLITA POLSKA | H31: WIELKOPOLSKIE | I31: POZNAŃ | J31: POZNAŃ | K31: 60-693 | L31: POZNAŃ | M31: OBORNICKA | N31: 272A | P31: Stacjonarne usługi dostępu do Internetu - detal - sprzedaż | Q31: Sieć bezprzewodowa - nielicencjonowane widmo | R31: RZECZPOSPOLITA POLSKA | S31: Nie posiada | V31: 38243
A32: 6270007191 | B32: KREMPA JERZY "TELPOL" - PRZEDSIĘBIORSTWO PRODUKCYJNO-MONTAŻOWE URZĄDZEŃ ELEKTRONICZNYCH | C32: 108 | D32: 38250 | F32: OSOBY FIZYCZNE PROWADZĄCE DZIAŁALNOŚĆ GOSPODARCZĄ | G32: RZECZPOSPOLITA POLSKA | H32: ŚLĄSKIE | I32: CHORZÓW | J32: CHORZÓW | K32: 41-506 | L32: CHORZÓW | M32: UL.RACJONALIZATORÓW | N32: 10 | P32: Stacjonarne usługi dostępu do Internetu - detal, Mobilne usługi dostępu do Internetu - sprzedaż, Transmisja danych - detal - hurt, Dzierżawa łączy telekomunikacyjnych - detal - hurt, Transmisja programów telewizyjnych - detal - sprzedaż, Transmisja programów radiowych - detal - sprzedaż | Q32: Kabel koncentryczny (TVK), Światłowód | R32: RZECZPOSPOLITA POLSKA | S32: WWW.TELPOL.NET.PL | V32: 38243
A33: 5272367786 | B33: BT POLAND SPÓŁKA Z OGRANICZONĄ ODPOWIEDZIALNOŚCIĄ | C33: 109 | D33: 38251 | F33: SP. Z O.O. | G33: RZECZPOSPOLITA POLSKA | H33: MAZOWIECKIE | I33: WARSZAWA | J33: WARSZAWA | K33: 00-008 | L33: WARSZAWA | M33: UL. MARSZAŁKOWSKA | N33: 126/134 | P33: Stacjonarne usługi dostępu do Internetu - detal - hurt - sprzedaż, Stacjonarne usługi łączności interpersonalnej wykorzystujące numery (w tym usługi nomadyczne) - detal - hurt - sprzedaż, Transmisja danych - detal - hurt - sprzedaż, Dzierżawa łączy telekomunikacyjnych - detal - hurt - sprzedaż, Usługi transmisji na potrzeby M2M - detal - hurt - sprzedaż | Q33: Światłowód | R33: RZECZPOSPOLITA POLSKA | S33: Nie posiada | V33: 38244
A34: 6110101722 | B34: LIBER JERZY TELERADIOMECHANIKA JERZY LIBER W SPADKU | C34: 115 | D34: 38245 | F34: OSOBY FIZYCZNE PROWADZĄCE DZIAŁALNOŚĆ GOSPODARCZĄ | G34: RZECZPOSPOLITA POLSKA | H34: DOLNOŚLĄSKIE | I34: JELENIA GÓRA | J34: JELENIA GÓRA | K34: 58-500 | L34: JELENIA GÓRA | M34: PODLEŚNA | N34: 28 | P34: Stacjonarne usługi dostępu do Internetu - detal, Transmisja programów telewizyjnych - detal | Q34: Kabel koncentryczny (TVK) | R34: RZECZPOSPOLITA POLSKA | S34: WWW.TVKLWOWEK.PL | V34: 38245
A35: 6681833016 | B35: "OPEN WAY" ŁUKASZ JANKOWIAK | C35: 124 | D35: 38253 | E35: 45833 | F35: OSOBY FIZYCZNE PROWADZĄCE DZIAŁALNOŚĆ GOSPODARCZĄ | G35: RZECZPOSPOLITA POLSKA | H35: WIELKOPOLSKIE | I35: TURECKI | J35: WŁADYSŁAWÓW | K35: 62-710 | L35: WŁADYSŁAWÓW | M35: ORLA | N35: 28 | R35: WOJEWÓDZTWO WIELKOPOLSKIE, POWIAT KONIŃSKI, GMINA KRAMSK, WOJEWÓDZTWO WIELKOPOLSKIE, POWIAT KONIŃSKI, GMINA KRZYMÓW, WOJEWÓDZTWO WIELKOPOLSKIE, POWIAT TURECKI, GMINA TULISZKÓW, WOJEWÓDZTWO WIELKOPOLSKIE, POWIAT TURECKI, GMINA WŁADYSŁAWÓW | U35: 45818 | V35: 38246
A36: 7250013208 | B36: "TOYA"-SPÓŁKA Z OGRANICZONĄ ODPOWIEDZIALNOŚCIĄ | C36: 127 | D36: 38253 | F36: SP. Z O.O. | G36: RZECZPOSPOLITA POLSKA | H36: ŁÓDZKIE | I36: ŁÓDŹ | J36: ŁÓDŹ | K36: 90-554 | L36: ŁÓDŹ | M36: ŁĄKOWA | N36: 29 | P36: Stacjonarne usługi dostępu do Internetu - detal - hurt, Mobilne usługi dostępu do Internetu - detal, Stacjonarne usługi łączności interpersonalnej wykorzystujące numery (w tym usługi nomadyczne) - detal, Mobilne usługi łączności interpersonalnej wykorzystujące numery - detal, Transmisja danych - detal, Dzierżawa łączy telekomunikacyjnych - detal, Transmisja programów telewizyjnych - detal - hurt, Transmisja programów radiowych - detal | Q36: Kabel koncentryczny (TVK), Światłowód | R36: RZECZPOSPOLITA POLSKA | S36: WWW.TOYA.NET.PL | V36: 38246
A37: 7960037796 | B37: T-MONT ZAKŁAD USŁUGOWO-HANDLOWY MAREK MRUK | C37: 128 | D37: 38254 | E37: 45755 | F37: OSOBY FIZYCZNE PROWADZĄCE DZIAŁALNOŚĆ GOSPODARCZĄ | G37: RZECZPOSPOLITA POLSKA | H37: MAZOWIECKIE | I37: RADOM | J37: RADOM M. | K37: 26-600 | L37: RADOM | M37: STRUGA | N37: 54 | R37: RZECZPOSPOLITA POLSKA | U37: 45747 | V37: 38247
A38: 6332024494 | B38: ALARMADI ADRIAN DOBROGOWSKI | C38: 134 | D38: 38257 | F38: OSOBY FIZYCZNE PROWADZĄCE DZIAŁALNOŚĆ GOSPODARCZĄ | G38: RZECZPOSPOLITA POLSKA | H38: ŚLĄSKIE | I38: CIESZYŃSKI | J38: ZEBRZYDOWICE | K38: 43-410 | L38: ZEBRZYDOWICE | M38: STROMA | N38: 7 | P38: Stacjonarne usługi dostępu do Internetu - detal | R38: RZECZPOSPOLITA POLSKA | S38: WWW.ALARMADI.PL | V38: 38247
A39: 9290117518 | B39: "OSTROWSKI" SPÓŁKA Z OGRANICZONĄ ODPOWIEDZIALNOŚCIĄ | C39: 135 | D39: 38257 | F39: SP. Z O.O. | G39: RZECZPOSPOLITA POLSKA | H39: MAZOWIECKIE | I39: WARSZAWA | J39: WARSZAWA | K39: 00-739 | L39: WARSZAWA | M39: STĘPIŃSKA | N39: 22 | O39: 30 | P39: Stacjonarne usługi dostępu do Internetu - detal, Transmisja programów telewizyjnych - detal | Q39: Kabel koncentryczny (TVK), Światłowód | R39: RZECZPOSPOLITA POLSKA | S39: WWW.OSTROWSKI.PL | V39: 38250
A40: 5542371965 | B40: PETRUS SPÓŁKA Z OGRANICZONĄ ODPOWIEDZIALNOŚCIĄ | C40: 139 | D40: 38259 | F40: SP. Z O.O. | G40: RZECZPOSPOLITA POLSKA | H40: POMORSKIE | I40: CHOJNICKI | J40: CHOJNICE | K40: 89-600 | L40: CHOJNICE | M40: STASZICA | N40: 30 | P40: Stacjonarne usługi dostępu do Internetu - detal, Stacjonarne usługi łączności interpersonalnej wykorzystujące numery (w tym usługi nomadyczne) - detal, Transmisja programów telewizyjnych - detal | Q40: Kabel koncentryczny (TVK), Światłowód, Sieć bezprzewodowa - nielicencjonowane widmo | R40: RZECZPOSPOLITA POLSKA | S40: WWW.PETRUS.PL | V40: 38252
...

Sheet Przykład uzupełnienia danych
A1: L.p. | B1: NIP wezwanego Przedsiębiorcy (NIP podmiotu przekazującego dane w ramach wezwania) | C1: Nazwa wezwanego Przedsiębiorcy (Nazwa podmiotu przekazującego dane w ramach wezwania) | D1: NIP Przedsiębiorcy Korzystającego (OK) | E1: Nazwa Przedsiębiorcy Korzystającego (OK) | F1: Nazwa Podmiotu na rzecz którego nastąpiła sprzedaż (jeżeli po wpisaniu prawidłowego numeru NIP w kolumnie D nie pojawi się nazwa podmiotu w kolumnie E na rzecz którego realizowana był sprzedaż, należy w kolumnie F wpisać nazwę tego podmiotu. (np. nazwę spółki cywilnej) | G1: Liczba świadczonych usług hurtowych BSA (Bitstream Access) - dostęp do strumienia bitów w oparciu o infrastrukturę finansowaną ze środków publicznych (stan na 31.12.2025 r.) niezależnie od stosowanej technologii | H1: Liczba świadczonych usług hurtowych BSA (Bitstream Access) - dostęp do strumienia bitów w oparciu o pozostałą infrastrukturę (niedofinansowaną) (stan na 31.12.2025 r.) niezależnie od stosowanej technologii | I1: Rodzaj świadczonych usług przez Operatora Korzystającego na Państwa infrastrukturze (usługi hurtowe,usługi detaliczne) (stan na 31.12.2025 r.) (jeżeli informacja jest znana)
A2: 1 | B2: 1234567890 | C2: Internet Sp. z o.o. | D2: 5271037728 | E2: Przedsiębiorca A | G2: 568 | H2: 6793 | I2: detaliczne
A3: 2 | B3: 1234567890 | C3: Internet Sp. z o.o. | D3: 5270904568 | E3: Przedsiębiorca B | G3: 456 | H3: 0 | I3: detaliczne
A4: 3 | B4: 1234567890 | C4: Internet Sp. z o.o. | D4: 5262419700 | E4: Przedsiębiorca C | G4: 250 | H4: 450
A5: 4 | B5: 1234567890 | C5: Internet Sp. z o.o. | D5: 6851650000 | E5: Przedsiębiorca D | G5: 0 | H5: 8
A6: 5 | B6: 1234567890 | C6: Internet Sp. z o.o. | D6: 6851659999 | E6: =IF(D6="", "", IF(COUNTIF(Baza!A:A, D6)=0, "Nieprawidłowy NIP", VLOOKUP(D6, Baza!A:B, 2, FALSE))) -> Nieprawidłowy NIP | F6: Telekom Spółka Cywilna | G6: 8900 | H6: 5678
A7: 6 | B7: 1234567890 | C7: Internet Sp. z o.o. | D7: 5229993718 | E7: =IF(D7="", "", IF(COUNTIF(Baza!A:A, D7)=0, "Nieprawidłowy NIP", VLOOKUP(D7, Baza!A:B, 2, FALSE))) -> Nieprawidłowy NIP | F7: Internet Plus | G7: 890 | H7: 4567

Sheet Opis
A1: Objaśnienia:
A2: Usługa BSA - usługa dostępu telekomunikacyjnego w zakresie szerokopasmowego dostępu do lokalnej pętli abonenckiej poprzez dostęp do węzłów sieci telekomunikacyjnej na potrzeby sprzedaży usług szerokopasmowej transmisji danych.
A4: Usługa LLU - usługa dostępu telekomunikacyjnego do Lokalnej pętli abonenckiej (w tym lokalnej pętli abonenckiej, lokalnej podpętli abonenckiej lub lokalnej pętli światłowodowej). lokalna pętla abonencka – fizyczny obwód łączący zakończenie sieci z punktem dystrybucji w stacjonarnej publicznej sieci telekomunikacyjnej, w szczególności z przełącznicą główną lub równoważnym urządzeniem. lokalna podpętla abonencka – część lokalnej pętli abonenckiej łącząca zakończenie sieci z pośrednim punktem dystrybucji w stacjonarnej publicznej sieci telekomunikacyjnej, w szczególności z koncentratorem lub innym urządzeniem dostępu pośredniego do stacjonarnej publicznej sieci telekomunikacyjnej. VULA (Virtual Unbundled Local Access) - wirtualne uwolnienie lokalnej pętli abonenckiej. Hurtowa usługa dostępu do lokalnej pętli abonenckiej na poziomie L2 (warstwa modelu OSI) odpowiadająca funkcjonalnie fizycznemu uwolnieniu pętli lokalnej.
A6: Zakładka BSA i LLU:
A7: Po wprowadzeniu numeru NIP w kolumnie B i D nazwa przedsiębiorcy w kolumnie C i E uzupełni się automatycznie
A8: Jeżeli w kolumnie D wprowadzony zostanie prawidłowy NIP podmiotu i nie pojawi się jego nazwa w kolumnie E należy wpisać samodzielnie nazwę podmiotu w kolumnie F. Sytaucja tak może pojawić się w przypadku Spółek Cywilnych które nie są wpisane w rejestrze RPT
A9: W zakładce LLU należy wykazać usługi łącznie świadczone w modelu LLU lub VULA
